BEGIN:VCALENDAR
VERSION:2.0
METHOD:PUBLISH
X-WR-CALNAME:InterRidge :: International Cooperation in Ridge-Crest Studies |  四月 27 2009- 四月 27 2009
PRODID:-//strange bird labs//Drupal iCal API//EN
BEGIN:VEVENT
DTSTAMP;VALUE=DATE-TIME:20260421T023408Z
DTSTART;VALUE=DATE-TIME:20090427T000000Z
DTEND;VALUE=DATE-TIME:20090430T170000Z
UID:http://194.254.225.67/zh-hans/node/5622
URL;VALUE=URI:http://194.254.225.67/zh-hans/node/5622
SUMMARY:ICES Symposium on issues confronting the deep oceans
DESCRIPTION:<p>2009 ICES SYMPOSIUM\:<br />
 Issues Confronting the Deep Oceans\: The Economic\, Scientific\, and Governance Challenges and Opportunities of Working in the Deep Sea<br />
 DATE\: 27-30 April 2009<br />
 VENUE\: Amor da Patria Hall\, University of the Azores\, Horta\, Azores\, Portugal<br />
 <a href=\\"http\://www.turangra.com/deepocean\\" title=\\"http\://www.turangra.com/deepocean\\">http\://www.turangra.com/deepocean</a><br />
 *NEW* <a href=\\"http\://www.turangra.com/deepocean/ICESDeepSeaSymposiumProgram.pdf\\">Program available</a></p>
 
END:VEVENT
END:VCALENDAR
